BEGIN:VCALENDAR
VERSION:2.0
PRODID:ihpst.pantheonsorbonne.fr
X-WR-TIMEZONE:Europe/Paris
BEGIN:VTIMEZONE
TZID:Europe/Paris
X-LIC-LOCATION:Europe/Paris
BEGIN:DAYLIGHT
TZNAME:CEST
TZOFFSETFROM:+0100
TZOFFSETTO:+0200
DTSTART:20250330T010000
END:DAYLIGHT
BEGIN:DAYLIGHT
TZNAME:CEST
TZOFFSETFROM:+0100
TZOFFSETTO:+0200
DTSTART:20260329T010000
END:DAYLIGHT
BEGIN:STANDARD
TZNAME:CET
TZOFFSETFROM:+0200
TZOFFSETTO:+0100
DTSTART:20251026T010000
END:STANDARD
BEGIN:STANDARD
TZNAME:CET
TZOFFSETFROM:+0200
TZOFFSETTO:+0100
DTSTART:20261025T010000
END:STANDARD
END:VTIMEZONE
BEGIN:VEVENT
UID:b48292d233262d0b3c872c80fc2ca2fc
DTSTART;TZID=Europe/Paris:20260327T140000
SEQUENCE:0
TRANSP:OPAQUE
URL:https://ihpst.pantheonsorbonne.fr/evenements
SUMMARY:Soutenance de thèse
CLASS:PUBLIC
DESCRIPTION:IHPST - Salle des doctorants 6è étage - 13 Rue du Four 75006 
 Paris
X-ALT-DESC;FMTTYPE=text/html:IHPST - Salle des doctorants 6è étage - 13 R
 ue du Four 75006 Paris\n\n
DTSTAMP:20260311T155319Z
END:VEVENT
END:VCALENDAR